BEGIN:VCALENDAR
VERSION:2.0
PRODID:-//Tukios.com/
BEGIN:VEVENT
UID:a598f7bd-b998-4ca8-8545-b866ec3b4233@www.stevensonfuneralhome.com
DTSTAMP:20260420T081257Z
DTSTART:20260213T210000Z
DTEND:20260213T220000Z
SUMMARY:Funeral Service
DESCRIPTION:
URL:https://www.stevensonfuneralhome.com/obituaries/william-hoffman
LOCATION: 2067 1st Street West  Dickinson ND 58601
GEO:46.879811;-102.8147095
END:VEVENT
END:VCALENDAR